BEGIN:VCALENDAR
VERSION:2.0
PRODID:-//Travering - ECPv6.8.1//NONSGML v1.0//EN
CALSCALE:GREGORIAN
METHOD:PUBLISH
X-ORIGINAL-URL:https://travering.de
X-WR-CALDESC:Veranstaltungen für Travering
REFRESH-INTERVAL;VALUE=DURATION:PT1H
X-Robots-Tag:noindex
X-PUBLISHED-TTL:PT1H
BEGIN:VTIMEZONE
TZID:UTC
BEGIN:STANDARD
TZOFFSETFROM:+0000
TZOFFSETTO:+0000
TZNAME:UTC
DTSTART:20260101T000000
END:STANDARD
END:VTIMEZONE
BEGIN:VEVENT
DTSTART;TZID=UTC:20260425T080000
DTEND;TZID=UTC:20260426T180000
DTSTAMP:20260421T124842
CREATED:20260325T113318Z
LAST-MODIFIED:20260413T104208Z
UID:10000938-1777104000-1777226400@travering.de
SUMMARY:[Gp] Motorrad-Veranstaltung FLV
DESCRIPTION:Der Travering ist Heute gesperrt. \nWir bitten um Ihr Verständnis.
URL:https://travering.de/event/gp-motorrad-veranstaltung-flv-2/
LOCATION:Travering\, Sehmsdorfer Strasse 82\, Bad Oldesloe\, 23843\, Deutschland
ATTACH;FMTTYPE=image/png:https://travering.de/wp-content/uploads/2020/09/5.png
END:VEVENT
BEGIN:VEVENT
DTSTART;TZID=UTC:20260620T090000
DTEND;TZID=UTC:20260620T170000
DTSTAMP:20260421T124842
CREATED:20251112T141904Z
LAST-MODIFIED:20260221T122946Z
UID:10000833-1781946000-1781974800@travering.de
SUMMARY:[Pg] PKW-Basis-FST buchbar
DESCRIPTION:Das klassische Sicherheitstraining. Egal ob Fahranfänger oder Routinier\, von diesem Kurs profitiert jeder. Kursinhalte wie beim Kompakt-Training: Slalomparcours\, Bremsen\, “Bremsen und Ausweichen vor plötzlich auftretenden Hindernissen” sowie Kurvenfahren. Die Fahrpraxis wird ergänzt durch ausführliche Gespräche\, z.B. über verschiedene Bremsmethoden und ausgewählte Fahrphysikfragen\, etwa zur Kraftübertragung. Behandelt werden aber auch psychologische Themen wie die Auswirkung von Stress und Ablenkung auf das Reaktionsvermögen.\nTrainingsdauer: 8 Stunden\, Höchstteilnehmerzahl: 12 Personen. Eine Kostenbeteiligung Ihrer BG ist vorher abzuklären. \nDas Plateau ist heute aufgrund eines Fahrsicherheitstrainings für VÜ gesperrt. \nWir bitten um Ihr Verständnis.
URL:https://travering.de/event/pg-pkw-basis-fst-buchbar-3/
LOCATION:Travering\, Sehmsdorfer Strasse 82\, Bad Oldesloe\, 23843\, Deutschland
ATTACH;FMTTYPE=image/png:https://travering.de/wp-content/uploads/2023/06/4-1.png
END:VEVENT
BEGIN:VEVENT
DTSTART;TZID=UTC:20260725T090000
DTEND;TZID=UTC:20260725T170000
DTSTAMP:20260421T124842
CREATED:20251112T142941Z
LAST-MODIFIED:20251112T143241Z
UID:10000837-1784970000-1784998800@travering.de
SUMMARY:[Pg] Motorrad-Basis-Training (buchbar)
DESCRIPTION:Das klassische Sicherheitstraining. Egal ob Fahranfänger oder Routinier\, von diesem Kurs profitiert jeder. Kursinhalte wie beim Kompakt-Training: Slalomparcours\, Bremsen\, “Bremsen und Ausweichen vor plötzlich auftretenden Hindernissen” sowie Kurvenfahren. Die Fahrpraxis wird ergänzt durch ausführliche Gespräche\, z.B. über verschiedene Bremsmethoden und ausgewählte Fahrphysikfragen\, etwa zur Kraftübertragung. Behandelt werden aber auch psychologische Themen wie die Auswirkung von Stress und Ablenkung auf das Reaktionsvermögen.\nTrainingsdauer: 8 Stunden\, Höchstteilnehmerzahl: 12 Personen. \nDas Plateau ist heute aufgrund eines Fahrsicherheitstrainings für VÜ gesperrt. \nWir bitten um Ihr Verständnis.
URL:https://travering.de/event/pg-motorrad-basis-training-buchbar-5/
LOCATION:Travering\, Sehmsdorfer Strasse 82\, Bad Oldesloe\, 23843\, Deutschland
ATTACH;FMTTYPE=image/png:https://travering.de/wp-content/uploads/2020/09/5.png
END:VEVENT
BEGIN:VEVENT
DTSTART;TZID=UTC:20260912T090000
DTEND;TZID=UTC:20260912T170000
DTSTAMP:20260421T124842
CREATED:20251112T143111Z
LAST-MODIFIED:20251112T143111Z
UID:10000838-1789203600-1789232400@travering.de
SUMMARY:[Pg] Motorrad-Basis-Training (buchbar)
DESCRIPTION:Das klassische Sicherheitstraining. Egal ob Fahranfänger oder Routinier\, von diesem Kurs profitiert jeder. Kursinhalte wie beim Kompakt-Training: Slalomparcours\, Bremsen\, “Bremsen und Ausweichen vor plötzlich auftretenden Hindernissen” sowie Kurvenfahren. Die Fahrpraxis wird ergänzt durch ausführliche Gespräche\, z.B. über verschiedene Bremsmethoden und ausgewählte Fahrphysikfragen\, etwa zur Kraftübertragung. Behandelt werden aber auch psychologische Themen wie die Auswirkung von Stress und Ablenkung auf das Reaktionsvermögen.\nTrainingsdauer: 8 Stunden\, Höchstteilnehmerzahl: 12 Personen. \nDas Plateau ist heute aufgrund eines Fahrsicherheitstrainings für VÜ gesperrt. \nWir bitten um Ihr Verständnis.
URL:https://travering.de/event/pg-motorrad-basis-training-buchbar-6/
LOCATION:Travering\, Sehmsdorfer Strasse 82\, Bad Oldesloe\, 23843\, Deutschland
ATTACH;FMTTYPE=image/png:https://travering.de/wp-content/uploads/2020/09/5.png
END:VEVENT
BEGIN:VEVENT
DTSTART;TZID=UTC:20261010T090000
DTEND;TZID=UTC:20261010T170000
DTSTAMP:20260421T124842
CREATED:20251112T142136Z
LAST-MODIFIED:20251112T142136Z
UID:10000835-1791622800-1791651600@travering.de
SUMMARY:[Pg] PKW-Basis-FST buchbar
DESCRIPTION:Das klassische Sicherheitstraining. Egal ob Fahranfänger oder Routinier\, von diesem Kurs profitiert jeder. Kursinhalte wie beim Kompakt-Training: Slalomparcours\, Bremsen\, “Bremsen und Ausweichen vor plötzlich auftretenden Hindernissen” sowie Kurvenfahren. Die Fahrpraxis wird ergänzt durch ausführliche Gespräche\, z.B. über verschiedene Bremsmethoden und ausgewählte Fahrphysikfragen\, etwa zur Kraftübertragung. Behandelt werden aber auch psychologische Themen wie die Auswirkung von Stress und Ablenkung auf das Reaktionsvermögen.\nTrainingsdauer: 8 Stunden\, Höchstteilnehmerzahl: 12 Personen. Eine Kostenbeteiligung Ihrer BG ist vorher abzuklären. \nDas Plateau ist heute aufgrund eines Fahrsicherheitstrainings für VÜ gesperrt. \nWir bitten um Ihr Verständnis.
URL:https://travering.de/event/pg-pkw-basis-fst-buchbar-5/
LOCATION:Travering\, Sehmsdorfer Strasse 82\, Bad Oldesloe\, 23843\, Deutschland
ATTACH;FMTTYPE=image/png:https://travering.de/wp-content/uploads/2023/06/4-1.png
END:VEVENT
END:VCALENDAR