BEGIN:VCALENDAR
VERSION:2.0
PRODID:-//Travering - ECPv6.8.1//NONSGML v1.0//EN
CALSCALE:GREGORIAN
METHOD:PUBLISH
X-ORIGINAL-URL:https://travering.de
X-WR-CALDESC:Veranstaltungen für Travering
REFRESH-INTERVAL;VALUE=DURATION:PT1H
X-Robots-Tag:noindex
X-PUBLISHED-TTL:PT1H
BEGIN:VTIMEZONE
TZID:UTC
BEGIN:STANDARD
TZOFFSETFROM:+0000
TZOFFSETTO:+0000
TZNAME:UTC
DTSTART:20250101T000000
END:STANDARD
END:VTIMEZONE
BEGIN:VEVENT
DTSTART;TZID=UTC:20250706T100000
DTEND;TZID=UTC:20250706T180000
DTSTAMP:20260421T130031
CREATED:20250627T113944Z
LAST-MODIFIED:20250627T113944Z
UID:10000723-1751796000-1751824800@travering.de
SUMMARY:Für Verkehrsüber geöffnet
DESCRIPTION:eine Anmeldung ist nicht erforderlich.
URL:https://travering.de/event/fuer-verkehrsueber-geoeffnet-55/
END:VEVENT
END:VCALENDAR