BEGIN:VCALENDAR
VERSION:2.0
PRODID:-//Travering - ECPv6.8.1//NONSGML v1.0//EN
CALSCALE:GREGORIAN
METHOD:PUBLISH
X-WR-CALNAME:Travering
X-ORIGINAL-URL:https://travering.de
X-WR-CALDESC:Veranstaltungen für Travering
REFRESH-INTERVAL;VALUE=DURATION:PT1H
X-Robots-Tag:noindex
X-PUBLISHED-TTL:PT1H
BEGIN:VTIMEZONE
TZID:UTC
BEGIN:STANDARD
TZOFFSETFROM:+0000
TZOFFSETTO:+0000
TZNAME:UTC
DTSTART:20250101T000000
END:STANDARD
END:VTIMEZONE
BEGIN:VEVENT
DTSTART;TZID=UTC:20250705T090000
DTEND;TZID=UTC:20250705T180000
DTSTAMP:20260421T144653
CREATED:20250606T103003Z
LAST-MODIFIED:20250611T090406Z
UID:10000708-1751706000-1751738400@travering.de
SUMMARY:[Gp] Tuning 4 Kids
DESCRIPTION:DAS DIESJÄHRIGE TREFFEN WIRD\nAM 05. JULI 2025 AB 09:00 UHR\nSTATTFINDEN.\n \n 
URL:https://travering.de/event/gptuning-4-kids/
ATTACH;FMTTYPE=image/jpeg:https://travering.de/wp-content/uploads/2025/03/20250329_154742.jpg
END:VEVENT
END:VCALENDAR