BEGIN:VCALENDAR
VERSION:2.0
PRODID:-//Travering - ECPv6.8.1//NONSGML v1.0//EN
CALSCALE:GREGORIAN
METHOD:PUBLISH
X-WR-CALNAME:Travering
X-ORIGINAL-URL:https://travering.de
X-WR-CALDESC:Veranstaltungen für Travering
REFRESH-INTERVAL;VALUE=DURATION:PT1H
X-Robots-Tag:noindex
X-PUBLISHED-TTL:PT1H
BEGIN:VTIMEZONE
TZID:UTC
BEGIN:STANDARD
TZOFFSETFROM:+0000
TZOFFSETTO:+0000
TZNAME:UTC
DTSTART:20250101T000000
END:STANDARD
END:VTIMEZONE
BEGIN:VEVENT
DTSTART;TZID=UTC:20250704T090000
DTEND;TZID=UTC:20250704T170000
DTSTAMP:20260421T105428
CREATED:20250627T115014Z
LAST-MODIFIED:20250627T115014Z
UID:10000730-1751619600-1751648400@travering.de
SUMMARY:[Pg] PKW-Basis-Training
DESCRIPTION:Das Plateau ist heute aufgrund eines Fahrsicherheitstrainings für VÜ gesperrt. \nWir bitten um Ihr Verständnis.
URL:https://travering.de/event/pg-pkw-basis-training-4/
LOCATION:Travering\, Sehmsdorfer Strasse 82\, Bad Oldesloe\, 23843\, Deutschland
ATTACH;FMTTYPE=image/png:https://travering.de/wp-content/uploads/2023/06/4-1.png
END:VEVENT
BEGIN:VEVENT
DTSTART;TZID=UTC:20250704T140000
DTEND;TZID=UTC:20250704T180000
DTSTAMP:20260421T105428
CREATED:20250627T113648Z
LAST-MODIFIED:20250627T113648Z
UID:10000718-1751637600-1751652000@travering.de
SUMMARY:Für Verkehrsüber geöffnet
DESCRIPTION:eine Anmeldung ist nicht erforderlich.
URL:https://travering.de/event/fuer-verkehrsueber-geoeffnet-50/
END:VEVENT
END:VCALENDAR