BEGIN:VCALENDAR
VERSION:2.0
PRODID:-//Travering - ECPv6.8.1//NONSGML v1.0//EN
CALSCALE:GREGORIAN
METHOD:PUBLISH
X-WR-CALNAME:Travering
X-ORIGINAL-URL:https://travering.de
X-WR-CALDESC:Veranstaltungen für Travering
REFRESH-INTERVAL;VALUE=DURATION:PT1H
X-Robots-Tag:noindex
X-PUBLISHED-TTL:PT1H
BEGIN:VTIMEZONE
TZID:UTC
BEGIN:STANDARD
TZOFFSETFROM:+0000
TZOFFSETTO:+0000
TZNAME:UTC
DTSTART:20250101T000000
END:STANDARD
END:VTIMEZONE
BEGIN:VEVENT
DTSTART;TZID=UTC:20250622T090000
DTEND;TZID=UTC:20250622T180000
DTSTAMP:20260422T111625
CREATED:20250520T113350Z
LAST-MODIFIED:20250520T113350Z
UID:10000707-1750582800-1750615200@travering.de
SUMMARY:[Gp]Jugend-Kart-Veranstaltung
DESCRIPTION:13. ADAC Travering Jugend-Kart-Veranstaltung
URL:https://travering.de/event/gpjugend-kart-veranstaltung/
ATTACH;FMTTYPE=image/png:https://travering.de/wp-content/uploads/2025/05/20240720_131021-e1747740787840.png
END:VEVENT
END:VCALENDAR